BEGIN:VCALENDAR
VERSION:2.0
PRODID:-//Petaluma Historical Library &amp; Museum - ECPv6.15.20//NONSGML v1.0//EN
CALSCALE:GREGORIAN
METHOD:PUBLISH
X-WR-CALNAME:Petaluma Historical Library &amp; Museum
X-ORIGINAL-URL:https://www.petalumamuseum.com
X-WR-CALDESC:Events for Petaluma Historical Library &amp; Museum
REFRESH-INTERVAL;VALUE=DURATION:PT1H
X-Robots-Tag:noindex
X-PUBLISHED-TTL:PT1H
BEGIN:VTIMEZONE
TZID:America/Los_Angeles
BEGIN:DAYLIGHT
TZOFFSETFROM:-0800
TZOFFSETTO:-0700
TZNAME:PDT
DTSTART:20210314T100000
END:DAYLIGHT
BEGIN:STANDARD
TZOFFSETFROM:-0700
TZOFFSETTO:-0800
TZNAME:PST
DTSTART:20211107T090000
END:STANDARD
BEGIN:DAYLIGHT
TZOFFSETFROM:-0800
TZOFFSETTO:-0700
TZNAME:PDT
DTSTART:20220313T100000
END:DAYLIGHT
BEGIN:STANDARD
TZOFFSETFROM:-0700
TZOFFSETTO:-0800
TZNAME:PST
DTSTART:20221106T090000
END:STANDARD
BEGIN:DAYLIGHT
TZOFFSETFROM:-0800
TZOFFSETTO:-0700
TZNAME:PDT
DTSTART:20230312T100000
END:DAYLIGHT
BEGIN:STANDARD
TZOFFSETFROM:-0700
TZOFFSETTO:-0800
TZNAME:PST
DTSTART:20231105T090000
END:STANDARD
BEGIN:DAYLIGHT
TZOFFSETFROM:-0800
TZOFFSETTO:-0700
TZNAME:PDT
DTSTART:20240310T100000
END:DAYLIGHT
BEGIN:STANDARD
TZOFFSETFROM:-0700
TZOFFSETTO:-0800
TZNAME:PST
DTSTART:20241103T090000
END:STANDARD
END:VTIMEZONE
BEGIN:VEVENT
DTSTART;TZID=America/Los_Angeles:20230206T000000
DTEND;TZID=America/Los_Angeles:20230409T235900
DTSTAMP:20260425T085815
CREATED:20230206T212507Z
LAST-MODIFIED:20230411T140456Z
UID:4653-1675641600-1681084740@www.petalumamuseum.com
SUMMARY:PMA Board Call for Candidates 2023
DESCRIPTION:Petaluma Museum Association Seeks Candidates for Board of Directors\nPMA Issues a Call for Candidates: \nThe Petaluma Museum Association\, a dynamic group dedicated to preserving and celebrating Petaluma’s history\, seeks qualified candidates for its board of directors for two-year terms. Directors are expected to advance the financial stability\, organizational strength\, and cultural relevance of the PMA through active attendance at board and committee meetings and through acting as PMA representatives in their other community activities. \nThe PMA is looking for potential board members with experience in: \n\nfundraising\ngrant writing\nlegal expertise\nmarketing / merchandising\nevent and exhibit planning\ncommunity-wide education\narchitectural history\na passion for Petaluma history\n\n  \n \nPlease read the Board of Directors Agreement Here before filling out our online application.\nOnline Application Here\n\n 
URL:https://www.petalumamuseum.com/calendar-event/pma-board-call-for-candidates-2023/
CATEGORIES:Announcement,Event
ATTACH;FMTTYPE=image/jpeg:https://www.petalumamuseum.com/wp-content/uploads/2018/03/stained_glass_dome.jpg
END:VEVENT
BEGIN:VEVENT
DTSTART;TZID=America/Los_Angeles:20221127T100000
DTEND;TZID=America/Los_Angeles:20221127T160000
DTSTAMP:20260425T085815
CREATED:20220727T074435Z
LAST-MODIFIED:20221128T171915Z
UID:3999-1669543200-1669564800@www.petalumamuseum.com
SUMMARY:Current Exhibit - Your Hometown Main Street
DESCRIPTION:Your Hometown Main Street\, Petaluma California\nAugust 11-November 27\, 2022\nMuseum Hours: Thursday-Sunday\, 10:00 a.m. – 4:00 p.m.\nCost: Free\, donations welcome\n\nPlease join us for a series of lectures and talks about Petaluma’s main Street\nSaturdays at 4pm\nFree\, Donations Appreciated\nPlease join us for a series of lectures and talks about Petaluma’s main Street\nLive Presentation! – August 20th – 4 pm\nTeresa Saltzman will discuss early trading routes of Native Americans.  This event will be held outside on the back deck of the Museum.\nThe following talks will be Virtual Only – Link to the Videos will Appear Here\nPaula Freund \n \nThe Pioneer Portrait Photographers of Petaluma’s Main Street \nBe sure to visit the Petaluma Pioneers website!\n_____ \nTerry Park \n \nTerry Park on Early Petaluma Saloons from Petaluma Historical Museum on Vimeo.\n_____ \nTerry Park – Early Transportation\n_____ \nJohn Sheehy \n \nThe Real Main Street: Petaluma’s Melting Pot of Commerce\, Community\, and Celebration \nBe sure to visit John’s Blog: PetalumaHistorian.com
URL:https://www.petalumamuseum.com/calendar-event/current-exhibit-your-hometown-main-street/
LOCATION:Petaluma Historical Library & Museum\, 20 4th St\, Petaluma\, CA\, United States
CATEGORIES:Announcement,Event,Exhibit Opening Reception
ATTACH;FMTTYPE=image/jpeg:https://www.petalumamuseum.com/wp-content/uploads/2022/07/Your-Hometown-Main-Street.jpg
END:VEVENT
END:VCALENDAR