BEGIN:VCALENDAR
VERSION:2.0
PRODID:-//Petaluma Historical Library &amp; Museum - ECPv6.15.20//NONSGML v1.0//EN
CALSCALE:GREGORIAN
METHOD:PUBLISH
X-WR-CALNAME:Petaluma Historical Library &amp; Museum
X-ORIGINAL-URL:https://www.petalumamuseum.com
X-WR-CALDESC:Events for Petaluma Historical Library &amp; Museum
REFRESH-INTERVAL;VALUE=DURATION:PT1H
X-Robots-Tag:noindex
X-PUBLISHED-TTL:PT1H
BEGIN:VTIMEZONE
TZID:America/Los_Angeles
BEGIN:DAYLIGHT
TZOFFSETFROM:-0800
TZOFFSETTO:-0700
TZNAME:PDT
DTSTART:20250309T100000
END:DAYLIGHT
BEGIN:STANDARD
TZOFFSETFROM:-0700
TZOFFSETTO:-0800
TZNAME:PST
DTSTART:20251102T090000
END:STANDARD
BEGIN:DAYLIGHT
TZOFFSETFROM:-0800
TZOFFSETTO:-0700
TZNAME:PDT
DTSTART:20260308T100000
END:DAYLIGHT
BEGIN:STANDARD
TZOFFSETFROM:-0700
TZOFFSETTO:-0800
TZNAME:PST
DTSTART:20261101T090000
END:STANDARD
BEGIN:DAYLIGHT
TZOFFSETFROM:-0800
TZOFFSETTO:-0700
TZNAME:PDT
DTSTART:20270314T100000
END:DAYLIGHT
BEGIN:STANDARD
TZOFFSETFROM:-0700
TZOFFSETTO:-0800
TZNAME:PST
DTSTART:20271107T090000
END:STANDARD
END:VTIMEZONE
BEGIN:VEVENT
DTSTART;TZID=America/Los_Angeles:20260409T100000
DTEND;TZID=America/Los_Angeles:20260607T160000
DTSTAMP:20260425T035018
CREATED:20260330T195644Z
LAST-MODIFIED:20260404T183221Z
UID:6295-1775728800-1780848000@www.petalumamuseum.com
SUMMARY:Current Exhibit - Time and Tide
DESCRIPTION:Time and Tide: An Artful Exploration of Petaluma’s Wetlands\n\nA uniquely Petaluma story shaped by history\, art\, and community.\nApril 9 – June 7\nPetaluma Historical Library & Museum\n20 4th Street (Corner of 4th & B Street)\nHours:  Thursday – Sunday\,  10 a.m. – 4 p.m.\nAdmission Free\,  Donations Appreciated\n\nTime & Tide: An Artful Exploration of Petaluma’s Wetlands tells a uniquely Petaluma story—where water\, history\, and community converge. Featuring more than 90 artworks by local artists and students\, the exhibition weaves together history\, art\, science\, and storytelling to explore how the Petaluma River and its wetlands have evolved over time—from expansive tidal marshes to a highly altered landscape now undergoing restoration. Through themes of interconnection\, stewardship\, and climate resilience\, Time & Tide invites visitors to see the wetlands not as the backdrop to the city\, but as a living system that sustains it—and a shared responsibility for the future. \nOpening Reception\nJoin us for the opening of Time & Tide: An Artful Exploration of Petaluma’s Wetlands.\n \nThis is a free event. RSVPs are appreciated. \nMany thanks to our partners\, including Petaluma Wetlands Alliance and artist/author Alan Butler\, and our sponsor\, the Foundation for Sustainability and Innovation.
URL:https://www.petalumamuseum.com/calendar-event/time-and-tide-an-artful-exploration-of-petalumas-wetlands/
LOCATION:Petaluma Historical Library & Museum\, 20 4th St\, Petaluma\, CA\, United States
CATEGORIES:Current Exhibit,Exhibit Presentations
ATTACH;FMTTYPE=image/png:https://www.petalumamuseum.com/wp-content/uploads/2026/03/Time-and-Tide-horizontal-1920-x-1080-px.png
END:VEVENT
BEGIN:VEVENT
DTSTART;TZID=America/Los_Angeles:20260501T103000
DTEND;TZID=America/Los_Angeles:20260531T120000
DTSTAMP:20260425T035018
CREATED:20260323T221335Z
LAST-MODIFIED:20260323T221335Z
UID:6278-1777631400-1780228800@www.petalumamuseum.com
SUMMARY:Downtown Petaluma Walking Tours in May 2026
DESCRIPTION:Learn about Petaluma’s fascinating history\, filled with unique characters and surprising stories.\nPlease meet on the steps of the Petaluma Historical Library and Museum\n10:30 am to 12:00 pm\nFree\, Donations Appreciated.\nDowntown Petaluma Walking Tours in May\n(Please register for ticket)\n \nOur docents guide you through Petaluma’s downtown and surrounding neighborhoods. Meet us on the steps of the Petaluma Historical Museum. \nWe still offer free tour tickets with the option to add a donation. This month we’re introducing paid tickets. Pick the ticket that works for you and show your love for these history walking tours! \nWant to schedule a private tour for friends and family? Sounds great\, please contact us at poyevents2026@gmail.com
URL:https://www.petalumamuseum.com/calendar-event/downtown-petaluma-walking-tours-in-may-2026/
LOCATION:Petaluma Historical Library & Museum\, 20 4th St\, Petaluma\, CA\, United States
CATEGORIES:Event,History Trails Walks,NHPM,Petalumans of Yesteryear
ATTACH;FMTTYPE=image/webp:https://www.petalumamuseum.com/wp-content/uploads/2026/03/May-Walking-Tours.webp
END:VEVENT
BEGIN:VEVENT
DTSTART;TZID=America/Los_Angeles:20260503T133000
DTEND;TZID=America/Los_Angeles:20260517T170000
DTSTAMP:20260425T035018
CREATED:20260409T183519Z
LAST-MODIFIED:20260410T174155Z
UID:6364-1777815000-1779037200@www.petalumamuseum.com
SUMMARY:View Master Tour: Petaluma Rewind
DESCRIPTION:Two Events:\nDate:  Sunday May 3\, 3:30 – 5:00PM\nalso\nSunday May 17\, 1:30 – 3:00 PM\nTo Purchase Tickets: View Master Tour: Petaluma Rewind \n(Get tickets\, limited availability)\nPetalumans of Yesteryear Website\nNew View Master Walking Tours with the Petalumans of Yesteryear. Take a stroll through downtown and experience a cool rewind into Petaluma’s past\, where historic sights come to life\, and fascinating stories unfold at every stop. Discover the charm\, the characters\, and the moments that shaped our town in a whole new way. \nReady to see yesterday like never before? \nWear comfortable shoes and sun protection\, bring water\, and stay hydrated. The tour is 1.5 miles\, at a moderate pace\, with rest stops. We provide View Masters\, and there will be a 10-minute intermission at the Art Play cafe on Kentucky Street (while we change the reels).  Purchase tickets in advance. \n \nGet ready to dive into the View Master Tour with the Petalumans of Yesteryear and explore some cool sights with fellow fans. Take a stroll through downtown and experience a cool rewind into Petaluma’s past—where historic sights come to life\, and fascinating stories unfold at every stop.
URL:https://www.petalumamuseum.com/calendar-event/view-master-tour-petaluma-rewind/
LOCATION:Balshaw Pedestrial Bridge\, Western Avenue\, Petaluma\, CA\, 94952\, United States
CATEGORIES:Event,History Trails Walks,NHPM
ATTACH;FMTTYPE=image/jpeg:https://www.petalumamuseum.com/wp-content/uploads/2026/04/image.jpg
END:VEVENT
BEGIN:VEVENT
DTSTART;TZID=America/Los_Angeles:20260508T160000
DTEND;TZID=America/Los_Angeles:20260508T180000
DTSTAMP:20260425T035018
CREATED:20260423T191902Z
LAST-MODIFIED:20260423T191902Z
UID:6418-1778256000-1778263200@www.petalumamuseum.com
SUMMARY:Historic Petaluma River Cruise
DESCRIPTION:A scenic\, narrated journey exploring the Petaluma River’s history\, wetlands\, and wildlife.\n\nFriday\, May 8  4:00-6:00 PM\nPurchase Tickets Here\n\nThe Petaluma Museum and Dolphin Charters invite you to step aboard for a relaxing and enriching cruise along the Petaluma River—where history\, ecology\, and community come together. \nIn connection with Time & Tide: An Artful Exploration of Petaluma’s Wetlands\, this special outing offers a unique opportunity to experience the landscapes featured in the exhibition from the water itself. As you travel through the heart of the Petaluma watershed\, you’ll gain a deeper understanding of how the river and its wetlands have shaped the region over time—and how they continue to support wildlife\, agriculture\, and climate resilience today. \nExpert guides will share insights into the river’s past and present\, from its role in early settlement and industry to ongoing restoration efforts that are helping rebuild vital wetland habitats. Along the way\, keep an eye out for birds and other wildlife that depend on this rich and dynamic ecosystem. \nYour ticket includes drinks\, appetizers\, and engaging narration in a beautiful\, open-air setting. \nWhether you’ve visited the exhibit or are simply curious about the river\, this cruise offers a memorable way to connect with Petaluma’s natural and cultural history. \n18 and over please. Departure location and details will be shared separately.
URL:https://www.petalumamuseum.com/calendar-event/historic-petaluma-river-cruise/
LOCATION:Petaluma River
CATEGORIES:Current Exhibit,Event,River Tour,River Tour
ATTACH;FMTTYPE=image/webp:https://www.petalumamuseum.com/wp-content/uploads/2026/04/River-Cruise.webp
END:VEVENT
END:VCALENDAR