BEGIN:VCALENDAR
VERSION:2.0
PRODID:-//Petaluma Historical Library &amp; Museum - ECPv6.15.20//NONSGML v1.0//EN
CALSCALE:GREGORIAN
METHOD:PUBLISH
X-WR-CALNAME:Petaluma Historical Library &amp; Museum
X-ORIGINAL-URL:https://www.petalumamuseum.com
X-WR-CALDESC:Events for Petaluma Historical Library &amp; Museum
REFRESH-INTERVAL;VALUE=DURATION:PT1H
X-Robots-Tag:noindex
X-PUBLISHED-TTL:PT1H
BEGIN:VTIMEZONE
TZID:America/Los_Angeles
BEGIN:DAYLIGHT
TZOFFSETFROM:-0800
TZOFFSETTO:-0700
TZNAME:PDT
DTSTART:20250309T100000
END:DAYLIGHT
BEGIN:STANDARD
TZOFFSETFROM:-0700
TZOFFSETTO:-0800
TZNAME:PST
DTSTART:20251102T090000
END:STANDARD
BEGIN:DAYLIGHT
TZOFFSETFROM:-0800
TZOFFSETTO:-0700
TZNAME:PDT
DTSTART:20260308T100000
END:DAYLIGHT
BEGIN:STANDARD
TZOFFSETFROM:-0700
TZOFFSETTO:-0800
TZNAME:PST
DTSTART:20261101T090000
END:STANDARD
BEGIN:DAYLIGHT
TZOFFSETFROM:-0800
TZOFFSETTO:-0700
TZNAME:PDT
DTSTART:20270314T100000
END:DAYLIGHT
BEGIN:STANDARD
TZOFFSETFROM:-0700
TZOFFSETTO:-0800
TZNAME:PST
DTSTART:20271107T090000
END:STANDARD
END:VTIMEZONE
BEGIN:VEVENT
DTSTART;TZID=America/Los_Angeles:20260117T130000
DTEND;TZID=America/Los_Angeles:20260117T143000
DTSTAMP:20260425T075305
CREATED:20260108T221922Z
LAST-MODIFIED:20260108T221922Z
UID:6196-1768654800-1768660200@www.petalumamuseum.com
SUMMARY:Antique Toy Demonstration
DESCRIPTION:Watch antique mechanical toys spring to life—gears\, whistles\, wonders\, and all!\nSaturday\, January 17 1:00 – 2:30 p.m.\n20 4th Street (Corner of 4th and B Streets)\nPlease RSVP Here\n\nJoin us for an awesome in-person event where antique toys come to life! Experience the charm and nostalgia as we show off classic antique mechanical toys in action. Perfect for history lovers\, families\, or anyone curious about the toys that fascinated past generations. Don’t miss this fun\, hands-on chance to see history in motion and learn about the marvels of mechanics! \nAnd while you’re at the Museum\, be sure to check out our exhibit\, “Toys Through Time: From Machine Age to Space Age”\, for more antique toys from a local Petaluma collection\, plus Star Wars collectibles from Rancho Obi-Wan. \nFree with suggested admission donation.
URL:https://www.petalumamuseum.com/calendar-event/antique-toy-demonstration/
LOCATION:Petaluma Historical Library & Museum\, 20 4th St\, Petaluma\, CA\, United States
CATEGORIES:Exhibit Presentations
ATTACH;FMTTYPE=image/jpeg:https://www.petalumamuseum.com/wp-content/uploads/2026/01/Toy-Demo.jpg
END:VEVENT
BEGIN:VEVENT
DTSTART;TZID=America/Los_Angeles:20260121T173000
DTEND;TZID=America/Los_Angeles:20260121T193000
DTSTAMP:20260425T075305
CREATED:20251216T180730Z
LAST-MODIFIED:20251216T182212Z
UID:6175-1769016600-1769023800@www.petalumamuseum.com
SUMMARY:Dusty Artifact or Window Into the Past: Writing Poems on Petaluma History
DESCRIPTION:Explore the history of Petaluma through poetic lenses – join us for a journey into the past through the art of writing!\nWednesday\, January 21 5:30 – 7:30 p.m.\n20 4th Street (Corner of 4th and B Streets)\nCost – Free\nPlease RSVP Here\n\nIf you think you know Petaluma history\, then come prepared to be surprised as we write poems from new perspectives. Join Sonoma County Poet Laureate Dave Seter for this special one of a kind workshop. Executive Director Stacey Atchley will provide an insider’s tour of the Museum\, inviting us to see into the windows of the past. We will then each select one or more artifacts or stories that may have been forgotten but are waiting to be discovered and shared. We will ask ourselves what we have learned from our past as we write poems or short prose pieces about the artifacts or stories we have chosen. No previous experience writing poetry is necessary. All are welcome. Please notify us if you need special accommodation (handicapped access to the museum\, et cetera).
URL:https://www.petalumamuseum.com/calendar-event/dusty-artifact-or-window-into-the-past-writing-poems-on-petaluma-history/
LOCATION:Petaluma Historical Library & Museum\, 20 4th St\, Petaluma\, CA\, United States
CATEGORIES:Exhibit Presentations
ATTACH;FMTTYPE=image/jpeg:https://www.petalumamuseum.com/wp-content/uploads/2025/12/Dusty-Artifact.jpg
END:VEVENT
BEGIN:VEVENT
DTSTART;TZID=America/Los_Angeles:20260125T170000
DTEND;TZID=America/Los_Angeles:20260125T190000
DTSTAMP:20260425T075305
CREATED:20251216T182136Z
LAST-MODIFIED:20251216T182136Z
UID:6180-1769360400-1769367600@www.petalumamuseum.com
SUMMARY:Toy Stories: A Conversation with Master Collectors
DESCRIPTION:Explore the passion and history behind toy collecting—from clockwork marvels to iconic Star Wars toys—in this special panel discussion.\nSunday\, January 25 5:00 – 7:00 p.m.\n20 4th Street (Corner of 4th and B Streets)\nCost – Free\nPlease RSVP Here\n\nJoin us for a panel discussion with a local collector of antique mechanical toys; Steve Sansweet\, founder and Executive Chairman of Rancho Obi-Wan\, home to the world’s largest Star Wars memorabilia collection\, and Pete Vilmur\, longtime Lucasfilm historian and collector. Together\, they’ll explore the stories behind their remarkable collections\, share the art of preserving playthings from different eras\, and discuss how toys—from clockwork marvels to cinematic icons—shape our sense of history\, creativity\, and imagination.
URL:https://www.petalumamuseum.com/calendar-event/toy-stories-a-conversation-with-master-collectors/
LOCATION:Petaluma Historical Library & Museum\, 20 4th St\, Petaluma\, CA\, United States
CATEGORIES:Exhibit Presentations
ATTACH;FMTTYPE=image/jpeg:https://www.petalumamuseum.com/wp-content/uploads/2025/12/Toy-Stories-Conversation.jpg
END:VEVENT
END:VCALENDAR