BEGIN:VCALENDAR
VERSION:2.0
PRODID:-//Petaluma Historical Library &amp; Museum - ECPv6.15.20//NONSGML v1.0//EN
CALSCALE:GREGORIAN
METHOD:PUBLISH
X-ORIGINAL-URL:https://www.petalumamuseum.com
X-WR-CALDESC:Events for Petaluma Historical Library &amp; Museum
REFRESH-INTERVAL;VALUE=DURATION:PT1H
X-Robots-Tag:noindex
X-PUBLISHED-TTL:PT1H
BEGIN:VTIMEZONE
TZID:America/Los_Angeles
BEGIN:DAYLIGHT
TZOFFSETFROM:-0800
TZOFFSETTO:-0700
TZNAME:PDT
DTSTART:20250309T100000
END:DAYLIGHT
BEGIN:STANDARD
TZOFFSETFROM:-0700
TZOFFSETTO:-0800
TZNAME:PST
DTSTART:20251102T090000
END:STANDARD
BEGIN:DAYLIGHT
TZOFFSETFROM:-0800
TZOFFSETTO:-0700
TZNAME:PDT
DTSTART:20260308T100000
END:DAYLIGHT
BEGIN:STANDARD
TZOFFSETFROM:-0700
TZOFFSETTO:-0800
TZNAME:PST
DTSTART:20261101T090000
END:STANDARD
BEGIN:DAYLIGHT
TZOFFSETFROM:-0800
TZOFFSETTO:-0700
TZNAME:PDT
DTSTART:20270314T100000
END:DAYLIGHT
BEGIN:STANDARD
TZOFFSETFROM:-0700
TZOFFSETTO:-0800
TZNAME:PST
DTSTART:20271107T090000
END:STANDARD
END:VTIMEZONE
BEGIN:VEVENT
DTSTART;TZID=America/Los_Angeles:20260527T170000
DTEND;TZID=America/Los_Angeles:20260527T183000
DTSTAMP:20260425T091816
CREATED:20260414T181511Z
LAST-MODIFIED:20260420T192028Z
UID:6380-1779901200-1779906600@www.petalumamuseum.com
SUMMARY:Preserving National History Locally: Tour of the Petaluma Woman’s Club
DESCRIPTION:Celebrate the Petaluma Woman’s Club’s recent addition to the National Register of Historic Places.\nDate:  Wednesday May 27\, 5:00-6:30 PM\nVenue: Petaluma Woman’s Club\n518 B Street\nPetaluma\, CA 94952\nCost:  Free\nPlease RSVP Here\n \nAs a part of National Historic Preservation Month festivities\, the Petaluma Woman’s Club invites you to a special event in celebration of its recent designation on the National Register of Historic Places. The program will feature a presentation by local historians and current Club members on the history of the Petaluma Woman’s Club\, including its role in the broader Women’s Club movement. The presentation will be followed by a guided tour of the historic 1913 Craftsman-style building\, designed by notable local architect Brainerd Jones.
URL:https://www.petalumamuseum.com/calendar-event/preserving-national-history-locally-tour-of-the-petaluma-womans-club/
LOCATION:Petaluma Woman’s Club\, 518 B Street\, Petaluma\, CA\, 94952\, United States
CATEGORIES:Event,History Trails Walks,NHPM
ATTACH;FMTTYPE=image/jpeg:https://www.petalumamuseum.com/wp-content/uploads/2026/04/womans-club-1a.jpg
END:VEVENT
BEGIN:VEVENT
DTSTART;TZID=America/Los_Angeles:20260601T103000
DTEND;TZID=America/Los_Angeles:20260630T120000
DTSTAMP:20260425T091816
CREATED:20260323T222245Z
LAST-MODIFIED:20260323T222245Z
UID:6286-1780309800-1782820800@www.petalumamuseum.com
SUMMARY:Downtown Petaluma Walking Tours in June 2026
DESCRIPTION:Learn about Petaluma’s fascinating history\, filled with unique characters and surprising stories.\nPlease meet on the steps of the Petaluma Historical Library and Museum\n10:30 am to 12:00 pm\nFree\, Donations Appreciated.\nDowntown Petaluma Walking Tours in June\n(Please register for ticket)\n \nOur docents guide you through Petaluma’s downtown and surrounding neighborhoods. Meet us on the steps of the Petaluma Historical Museum. \nWe still offer free tour tickets with the option to add a donation. This month we’re introducing paid tickets. Pick the ticket that works for you and show your love for these history walking tours! \nWant to schedule a private tour for friends and family? Sounds great\, please contact us at poyevents2026@gmail.com
URL:https://www.petalumamuseum.com/calendar-event/downtown-petaluma-walking-tours-in-june-2026/
LOCATION:Petaluma Historical Library & Museum\, 20 4th St\, Petaluma\, CA\, United States
CATEGORIES:Event,History Trails Walks,Petalumans of Yesteryear
ATTACH;FMTTYPE=image/webp:https://www.petalumamuseum.com/wp-content/uploads/2026/03/June-Walking-Tours.webp
END:VEVENT
END:VCALENDAR