BEGIN:VCALENDAR
VERSION:2.0
PRODID:-//Petaluma Historical Library &amp; Museum - ECPv6.15.20//NONSGML v1.0//EN
CALSCALE:GREGORIAN
METHOD:PUBLISH
X-WR-CALNAME:Petaluma Historical Library &amp; Museum
X-ORIGINAL-URL:https://www.petalumamuseum.com
X-WR-CALDESC:Events for Petaluma Historical Library &amp; Museum
REFRESH-INTERVAL;VALUE=DURATION:PT1H
X-Robots-Tag:noindex
X-PUBLISHED-TTL:PT1H
BEGIN:VTIMEZONE
TZID:America/Los_Angeles
BEGIN:DAYLIGHT
TZOFFSETFROM:-0800
TZOFFSETTO:-0700
TZNAME:PDT
DTSTART:20240310T100000
END:DAYLIGHT
BEGIN:STANDARD
TZOFFSETFROM:-0700
TZOFFSETTO:-0800
TZNAME:PST
DTSTART:20241103T090000
END:STANDARD
BEGIN:DAYLIGHT
TZOFFSETFROM:-0800
TZOFFSETTO:-0700
TZNAME:PDT
DTSTART:20250309T100000
END:DAYLIGHT
BEGIN:STANDARD
TZOFFSETFROM:-0700
TZOFFSETTO:-0800
TZNAME:PST
DTSTART:20251102T090000
END:STANDARD
BEGIN:DAYLIGHT
TZOFFSETFROM:-0800
TZOFFSETTO:-0700
TZNAME:PDT
DTSTART:20260308T100000
END:DAYLIGHT
BEGIN:STANDARD
TZOFFSETFROM:-0700
TZOFFSETTO:-0800
TZNAME:PST
DTSTART:20261101T090000
END:STANDARD
BEGIN:DAYLIGHT
TZOFFSETFROM:-0800
TZOFFSETTO:-0700
TZNAME:PDT
DTSTART:20270314T100000
END:DAYLIGHT
BEGIN:STANDARD
TZOFFSETFROM:-0700
TZOFFSETTO:-0800
TZNAME:PST
DTSTART:20271107T090000
END:STANDARD
END:VTIMEZONE
BEGIN:VEVENT
DTSTART;TZID=America/Los_Angeles:20251206T100000
DTEND;TZID=America/Los_Angeles:20260201T160000
DTSTAMP:20260425T122938
CREATED:20251125T204841Z
LAST-MODIFIED:20251204T204305Z
UID:6129-1765015200-1769961600@www.petalumamuseum.com
SUMMARY:Current Exhibit: Toys Through Time: From Machine Age to Space Age
DESCRIPTION:December 6 – February 1\nThurs. – Sunday 10 a.m. – 4 p.m.\n20 4th Street (Corner of 4th and B Streets)\nToys Through Time: From Machine Age to Space Age explores how play has reflected—and helped shape—our changing world for more than a century. Featuring a collection of antique mechanical toys on loan from a local collector\, alongside Star Wars toys from Rancho Obi-Wan\, the exhibition traces a journey from the ingenuity of clockwork mechanisms to the imagination of cinematic spaceflight. Visitors will discover how toys reveal changing cultural values\, evolving materials\, and the inventive spirit that shaped both industrial progress and the dreams of the Space Age. Together\, these toys illuminate how curiosity\, creativity\, and play have propelled generations from gears to galaxies.
URL:https://www.petalumamuseum.com/calendar-event/upcoming-exhibit-toys-through-time-from-machine-age-to-space-age/
LOCATION:Petaluma Historical Library & Museum\, 20 4th St\, Petaluma\, CA\, United States
CATEGORIES:Next Exhibit
ATTACH;FMTTYPE=image/png:https://www.petalumamuseum.com/wp-content/uploads/2025/11/Toys-Through-Time-_Instagram-Post-_45__.png
END:VEVENT
END:VCALENDAR