BEGIN:VCALENDAR
VERSION:2.0
PRODID:-//Petaluma Historical Library &amp; Museum - ECPv6.15.20//NONSGML v1.0//EN
CALSCALE:GREGORIAN
METHOD:PUBLISH
X-ORIGINAL-URL:https://www.petalumamuseum.com
X-WR-CALDESC:Events for Petaluma Historical Library &amp; Museum
REFRESH-INTERVAL;VALUE=DURATION:PT1H
X-Robots-Tag:noindex
X-PUBLISHED-TTL:PT1H
BEGIN:VTIMEZONE
TZID:America/Los_Angeles
BEGIN:DAYLIGHT
TZOFFSETFROM:-0800
TZOFFSETTO:-0700
TZNAME:PDT
DTSTART:20250309T100000
END:DAYLIGHT
BEGIN:STANDARD
TZOFFSETFROM:-0700
TZOFFSETTO:-0800
TZNAME:PST
DTSTART:20251102T090000
END:STANDARD
BEGIN:DAYLIGHT
TZOFFSETFROM:-0800
TZOFFSETTO:-0700
TZNAME:PDT
DTSTART:20260308T100000
END:DAYLIGHT
BEGIN:STANDARD
TZOFFSETFROM:-0700
TZOFFSETTO:-0800
TZNAME:PST
DTSTART:20261101T090000
END:STANDARD
BEGIN:DAYLIGHT
TZOFFSETFROM:-0800
TZOFFSETTO:-0700
TZNAME:PDT
DTSTART:20270314T100000
END:DAYLIGHT
BEGIN:STANDARD
TZOFFSETFROM:-0700
TZOFFSETTO:-0800
TZNAME:PST
DTSTART:20271107T090000
END:STANDARD
END:VTIMEZONE
BEGIN:VEVENT
DTSTART;TZID=America/Los_Angeles:20260213T100000
DTEND;TZID=America/Los_Angeles:20260329T160000
DTSTAMP:20260425T090012
CREATED:20260128T203445Z
LAST-MODIFIED:20260213T213743Z
UID:6226-1770976800-1774800000@www.petalumamuseum.com
SUMMARY:Current Exhibit-A Century of Black History Commemorations: A Future of Possibility
DESCRIPTION:A Century of Black History Commemorations: A Future of Possibility\nFebruary 13 – March 29\nPetaluma Historical Library & Museum\n20 4th Street (Corner of 4th & B Street)\nHours:  Thursday – Sunday\,  10 a.m. – 4 p.m.\nAdmission Free\,  Donations Appreciated \nThe exhibit will be celebrating 100 years of commemoration Black History. As we enter the centennial\, we will highlight the people\, events and achievements of the African diaspora in the United States and focus on Black achievement in Sonoma County. The Exhibit will be free and open to the public after the grand opening.\nEvents At the Museum:\nValentine’s Night Out & Black History Exhibit Opening\nFebruary 13\, 2026\nPetaluma Historical Library & Museum\n20 4th Street (Corner of 4th & B Street)\nStarts at 6:00 PM with Music beginning at 6:30 PM\nTickets: $35 – Available Here\n\nFeaturing live music by Sky Palace ( singer-song writer\, dancer\, actress\, model) and Dave Amato (a soulful guitarist that always plays from the heart.)\n\nWhether you’re coming with a partner\, friends\, or on your own\, join us for a stylish Valentine’s night out featuring live music\, champagne and refreshments\, dancing\, and a docent-led tour of our new exhibit\, A Century of Black History Commemorations: A Future of Possibility.\nStarts at 6:00 PM with Music beginning at 6:30 PM\nTickets: $35 – Available Here or Scan the Code Below: \n \nStory Time at the Petaluma Museum\nFebruary 21\, 2026\nStory Reading at 11 am and 12:30.\nThis event is for our younger community members. All children must come with an adult. Grab a free book\, snack and create an art project with Jose from the Children’s Museum of Sonoma County. \n\n“The History of Slavery in Sonoma County from 1850.”\nFebruary 22\, 2026\nLecture\, 2:30 pm\nAmy Kittelstrom is a Professor of History at Sonoma State University who specializes in American thought and culture. She is the author of The Religion of Democracy (Penguin\, 2015). She has written critical essays on the state of the American intellectual history. Since 2023\, Amy has been the lead investigator of groundbreaking research on the history of slavery in Sonoma County\, California\, in partnership with the Santa Rosa-Sonoma County NAACP. There will be a question and answer section following the lecture. \n\nEvents at other Locations in the Community\n \n\nFebruary 6\, 2026 – The Dorian Mode Black History Jazz Concert\nDoors open at 6:30 and concert starts at 7.\nDrinks and refreshments will be served\nLocation – Polly Klaas Community Theater\n417 Western Ave. Cost $60.00.\nTo purchase tickets go to our website at www.pbcd4us.com and scan the QR code.\n\n\nFebruary 28\, 2026 – Annual Black History Month Program at New Life Christian Church\n1310 Clegg St.\, Petaluma.\nTime: 5:30 p.m.\nThe program will highlight the remarkable stories of previous and current generations of African Americans through music\, dance\, poetry and their fight for justice and equality.\n\nCheck our website for additions/changes: www.pbcd4us.com\n\n  \n  \n 
URL:https://www.petalumamuseum.com/calendar-event/upcoming-exhibit-a-century-of-black-history-commemorations-a-future-of-possibility/
LOCATION:Petaluma Historical Library & Museum\, 20 4th St\, Petaluma\, CA\, United States
CATEGORIES:Black History Month Activities,Exhibit Presentations,Next Exhibit
ATTACH;FMTTYPE=image/jpeg:https://www.petalumamuseum.com/wp-content/uploads/2026/01/100_Black_History_Celebration_Logo-04-scaled-1024x0-c-default.jpg
END:VEVENT
END:VCALENDAR